Package: rfaRm Version: 1.12.1 Command: F:\biocbuild\bbs-3.17-bioc\R\bin\R.exe CMD INSTALL rfaRm StartedAt: 2023-10-15 16:52:35 -0400 (Sun, 15 Oct 2023) EndedAt: 2023-10-15 16:55:02 -0400 (Sun, 15 Oct 2023) EllapsedTime: 147.0 seconds RetCode: 0 Status: OK