Package: rfaRm Version: 1.12.0 Command: rm -rf rfaRm.buildbin-libdir && mkdir rfaRm.buildbin-libdir && F:\biocbuild\bbs-3.17-bioc\R\bin\R.exe CMD INSTALL --build --library=rfaRm.buildbin-libdir rfaRm_1.12.0.tar.gz StartedAt: 2023-07-28 10:25:38 -0400 (Fri, 28 Jul 2023) EndedAt: 2023-07-28 10:28:07 -0400 (Fri, 28 Jul 2023) EllapsedTime: 149.0 seconds RetCode: 0 Status: OK PackageFile: rfaRm_1.12.0.zip PackageFileSize: 457.5 KiB