Package: rfaRm Version: 1.12.0 Command: /home/biocbuild/bbs-3.17-bioc/R/bin/R CMD check --install=check:rfaRm.install-out.txt --library=/home/biocbuild/bbs-3.17-bioc/R/site-library --timings rfaRm_1.12.0.tar.gz StartedAt: 2023-10-06 00:19:22 -0400 (Fri, 06 Oct 2023) EndedAt: 2023-10-06 00:20:22 -0400 (Fri, 06 Oct 2023) EllapsedTime: 59.3 seconds RetCode: 1 Status: ERROR CheckDir: rfaRm.Rcheck Warnings: NA