Package: rfaRm Version: 1.12.1 Command: /home/biocbuild/bbs-3.17-bioc/R/bin/R CMD build --keep-empty-dirs --no-resave-data rfaRm StartedAt: 2023-10-15 18:10:51 -0400 (Sun, 15 Oct 2023) EndedAt: 2023-10-15 18:15:51 -0400 (Sun, 15 Oct 2023) EllapsedTime: 299.5 seconds RetCode: 1 Status: ERROR PackageFile: None PackageFileSize: NA