Package: rfaRm Version: 1.12.1 Command: /Library/Frameworks/R.framework/Resources/bin/R CMD build --keep-empty-dirs --no-resave-data rfaRm StartedAt: 2023-10-15 20:39:26 -0400 (Sun, 15 Oct 2023) EndedAt: 2023-10-15 20:44:31 -0400 (Sun, 15 Oct 2023) EllapsedTime: 304.3 seconds RetCode: 0 Status: OK PackageFile: rfaRm_1.12.1.tar.gz PackageFileSize: 664.5 KiB