Package: rexposome Version: 1.22.0 Command: chmod a+r rexposome -R && F:\biocbuild\bbs-3.17-bioc\R\bin\R.exe CMD build --keep-empty-dirs --no-resave-data rexposome StartedAt: 2023-10-15 21:45:45 -0400 (Sun, 15 Oct 2023) EndedAt: 2023-10-15 21:47:52 -0400 (Sun, 15 Oct 2023) EllapsedTime: 127.1 seconds RetCode: 0 Status: OK PackageFile: rexposome_1.22.0.tar.gz PackageFileSize: 5.472 MiB