Package: rexposome Version: 1.22.0 Command: /home/biocbuild/bbs-3.17-bioc/R/bin/R CMD check --install=check:rexposome.install-out.txt --library=/home/biocbuild/bbs-3.17-bioc/R/site-library --timings rexposome_1.22.0.tar.gz StartedAt: 2023-10-16 00:22:48 -0400 (Mon, 16 Oct 2023) EndedAt: 2023-10-16 00:25:46 -0400 (Mon, 16 Oct 2023) EllapsedTime: 178.5 seconds RetCode: 1 Status: ERROR CheckDir: rexposome.Rcheck Warnings: NA