Package: rexposome Version: 1.22.0 Command: /home/biocbuild/bbs-3.17-bioc/R/bin/R CMD build --keep-empty-dirs --no-resave-data rexposome StartedAt: 2023-10-15 18:10:51 -0400 (Sun, 15 Oct 2023) EndedAt: 2023-10-15 18:12:28 -0400 (Sun, 15 Oct 2023) EllapsedTime: 96.9 seconds RetCode: 0 Status: OK PackageFile: rexposome_1.22.0.tar.gz PackageFileSize: 7.283 MiB