Package: rexposome Version: 1.22.0 Command: /Library/Frameworks/R.framework/Resources/bin/R CMD build --keep-empty-dirs --no-resave-data rexposome StartedAt: 2023-10-15 20:39:12 -0400 (Sun, 15 Oct 2023) EndedAt: 2023-10-15 20:43:15 -0400 (Sun, 15 Oct 2023) EllapsedTime: 242.7 seconds RetCode: 0 Status: OK PackageFile: rexposome_1.22.0.tar.gz PackageFileSize: 7.528 MiB