Package: retrofit Version: 1.0.0 Command: chmod a+r retrofit -R && F:\biocbuild\bbs-3.17-bioc\R\bin\R.exe CMD build --keep-empty-dirs --no-resave-data retrofit StartedAt: 2023-10-15 21:45:29 -0400 (Sun, 15 Oct 2023) EndedAt: 2023-10-15 21:46:28 -0400 (Sun, 15 Oct 2023) EllapsedTime: 59.5 seconds RetCode: 0 Status: OK PackageFile: retrofit_1.0.0.tar.gz PackageFileSize: 3.596 MiB