Package: retrofit Version: 1.0.0 Command: rm -rf retrofit.buildbin-libdir && mkdir retrofit.buildbin-libdir && F:\biocbuild\bbs-3.17-bioc\R\bin\R.exe CMD INSTALL --build --library=retrofit.buildbin-libdir retrofit_1.0.0.tar.gz StartedAt: 2023-10-16 09:22:37 -0400 (Mon, 16 Oct 2023) EndedAt: 2023-10-16 09:23:19 -0400 (Mon, 16 Oct 2023) EllapsedTime: 42.4 seconds RetCode: 0 Status: OK PackageFile: retrofit_1.0.0.zip PackageFileSize: 3.982 MiB