Package: retrofit Version: 1.0.0 Command: /home/biocbuild/bbs-3.17-bioc/R/bin/R CMD build --keep-empty-dirs --no-resave-data retrofit StartedAt: 2023-10-15 18:10:44 -0400 (Sun, 15 Oct 2023) EndedAt: 2023-10-15 18:11:32 -0400 (Sun, 15 Oct 2023) EllapsedTime: 47.4 seconds RetCode: 0 Status: OK PackageFile: retrofit_1.0.0.tar.gz PackageFileSize: 4.425 MiB