Package: retrofit Version: 1.0.0 Command: /Library/Frameworks/R.framework/Resources/bin/R CMD INSTALL retrofit StartedAt: 2023-10-15 15:05:18 -0400 (Sun, 15 Oct 2023) EndedAt: 2023-10-15 15:06:14 -0400 (Sun, 15 Oct 2023) EllapsedTime: 55.6 seconds RetCode: 0 Status: OK