Package: retrofit Version: 1.0.0 Command: /Library/Frameworks/R.framework/Resources/bin/R CMD check --install=check:retrofit.install-out.txt --library=/Library/Frameworks/R.framework/Resources/library --no-vignettes --timings retrofit_1.0.0.tar.gz StartedAt: 2023-10-16 05:58:14 -0400 (Mon, 16 Oct 2023) EndedAt: 2023-10-16 05:59:41 -0400 (Mon, 16 Oct 2023) EllapsedTime: 87.0 seconds RetCode: 0 Status: OK CheckDir: retrofit.Rcheck Warnings: 0