Package: retrofit Version: 1.0.0 Command: /Library/Frameworks/R.framework/Resources/bin/R CMD build --keep-empty-dirs --no-resave-data retrofit StartedAt: 2023-10-15 20:39:03 -0400 (Sun, 15 Oct 2023) EndedAt: 2023-10-15 20:40:58 -0400 (Sun, 15 Oct 2023) EllapsedTime: 114.8 seconds RetCode: 0 Status: OK PackageFile: retrofit_1.0.0.tar.gz PackageFileSize: 4.464 MiB