Package: restfulSE Version: 1.22.0 Command: /home/biocbuild/bbs-3.17-bioc/R/bin/R CMD INSTALL restfulSE StartedAt: 2023-10-15 15:48:59 -0400 (Sun, 15 Oct 2023) EndedAt: 2023-10-15 15:49:33 -0400 (Sun, 15 Oct 2023) EllapsedTime: 33.8 seconds RetCode: 0 Status: OK