Package: restfulSE Version: 1.22.0 Command: /home/biocbuild/bbs-3.17-bioc/R/bin/R CMD build --keep-empty-dirs --no-resave-data restfulSE StartedAt: 2023-10-15 18:10:44 -0400 (Sun, 15 Oct 2023) EndedAt: 2023-10-15 18:11:27 -0400 (Sun, 15 Oct 2023) EllapsedTime: 43.4 seconds RetCode: 1 Status: ERROR PackageFile: None PackageFileSize: NA