Package: restfulSE Version: 1.22.0 Command: /Library/Frameworks/R.framework/Resources/bin/R CMD build --keep-empty-dirs --no-resave-data restfulSE StartedAt: 2023-10-15 20:38:59 -0400 (Sun, 15 Oct 2023) EndedAt: 2023-10-15 20:40:33 -0400 (Sun, 15 Oct 2023) EllapsedTime: 94.1 seconds RetCode: 1 Status: ERROR PackageFile: None PackageFileSize: NA