Package: restfulSE Version: 1.22.0 Command: rm -rf restfulSE.buildbin-libdir && mkdir restfulSE.buildbin-libdir && /Users/biocbuild/BBS/utils/build-universal.sh restfulSE_1.22.0.tar.gz /Library/Frameworks/R.framework/Resources/bin/R restfulSE.buildbin-libdir StartedAt: 2023-07-06 10:00:12 -0400 (Thu, 06 Jul 2023) EndedAt: 2023-07-06 10:02:01 -0400 (Thu, 06 Jul 2023) EllapsedTime: 109.3 seconds RetCode: 0 Status: OK PackageFile: restfulSE_1.22.0.tgz PackageFileSize: 768.8 KiB