git_url: https://git.bioconductor.org/packages/restfulSE git_branch: RELEASE_3_17 git_last_commit: 882a17b git_last_commit_date: 2023-04-25 10:56:49 -0400 (Tue, 25 Apr 2023) Package: restfulSE Version: 1.22.0 Maintainer: Shweta Gopaulakrishnan MaintainerEmail: shwetagopaul92 at gmail.com