Package: regsplice Version: 1.26.0 Command: chmod a+r regsplice -R && F:\biocbuild\bbs-3.17-bioc\R\bin\R.exe CMD build --keep-empty-dirs --no-resave-data regsplice StartedAt: 2023-10-15 21:44:10 -0400 (Sun, 15 Oct 2023) EndedAt: 2023-10-15 21:45:17 -0400 (Sun, 15 Oct 2023) EllapsedTime: 66.9 seconds RetCode: 0 Status: OK PackageFile: regsplice_1.26.0.tar.gz PackageFileSize: 287.2 KiB