Package: regsplice Version: 1.26.0 Command: /home/biocbuild/bbs-3.17-bioc/R/bin/R CMD INSTALL regsplice StartedAt: 2023-10-15 15:36:55 -0400 (Sun, 15 Oct 2023) EndedAt: 2023-10-15 15:37:16 -0400 (Sun, 15 Oct 2023) EllapsedTime: 20.8 seconds RetCode: 0 Status: OK