Package: regsplice Version: 1.26.0 Command: /home/biocbuild/bbs-3.17-bioc/R/bin/R CMD check --install=check:regsplice.install-out.txt --library=/home/biocbuild/bbs-3.17-bioc/R/site-library --timings regsplice_1.26.0.tar.gz StartedAt: 2023-10-16 00:20:25 -0400 (Mon, 16 Oct 2023) EndedAt: 2023-10-16 00:24:16 -0400 (Mon, 16 Oct 2023) EllapsedTime: 230.6 seconds RetCode: 0 Status: OK CheckDir: regsplice.Rcheck Warnings: 0