Package: regsplice Version: 1.26.0 Command: /Library/Frameworks/R.framework/Resources/bin/R CMD build --keep-empty-dirs --no-resave-data regsplice StartedAt: 2023-10-15 20:37:03 -0400 (Sun, 15 Oct 2023) EndedAt: 2023-10-15 20:38:59 -0400 (Sun, 15 Oct 2023) EllapsedTime: 115.7 seconds RetCode: 0 Status: OK PackageFile: regsplice_1.26.0.tar.gz PackageFileSize: 287 KiB