Package: regsplice Version: 1.26.0 Command: rm -rf regsplice.buildbin-libdir && mkdir regsplice.buildbin-libdir && /Users/biocbuild/BBS/utils/build-universal.sh regsplice_1.26.0.tar.gz /Library/Frameworks/R.framework/Resources/bin/R regsplice.buildbin-libdir StartedAt: 2023-10-16 10:01:59 -0400 (Mon, 16 Oct 2023) EndedAt: 2023-10-16 10:03:13 -0400 (Mon, 16 Oct 2023) EllapsedTime: 73.6 seconds RetCode: 0 Status: OK PackageFile: regsplice_1.26.0.tgz PackageFileSize: 404.3 KiB