Package: regioneReloaded Version: 1.2.0 Command: chmod a+r regioneReloaded -R && F:\biocbuild\bbs-3.17-bioc\R\bin\R.exe CMD build --keep-empty-dirs --no-resave-data regioneReloaded StartedAt: 2023-10-15 21:43:28 -0400 (Sun, 15 Oct 2023) EndedAt: 2023-10-15 21:44:49 -0400 (Sun, 15 Oct 2023) EllapsedTime: 81.0 seconds RetCode: 0 Status: OK PackageFile: regioneReloaded_1.2.0.tar.gz PackageFileSize: 2.56 MiB