Package: regioneReloaded Version: 1.2.0 Command: /home/biocbuild/bbs-3.17-bioc/R/bin/R CMD build --keep-empty-dirs --no-resave-data regioneReloaded StartedAt: 2023-10-15 18:09:35 -0400 (Sun, 15 Oct 2023) EndedAt: 2023-10-15 18:10:50 -0400 (Sun, 15 Oct 2023) EllapsedTime: 74.7 seconds RetCode: 0 Status: OK PackageFile: regioneReloaded_1.2.0.tar.gz PackageFileSize: 3.585 MiB