Package: regioneReloaded Version: 1.2.0 Command: /Library/Frameworks/R.framework/Resources/bin/R CMD INSTALL regioneReloaded StartedAt: 2023-10-15 15:41:38 -0400 (Sun, 15 Oct 2023) EndedAt: 2023-10-15 15:43:26 -0400 (Sun, 15 Oct 2023) EllapsedTime: 108.4 seconds RetCode: 0 Status: OK