Package: regioneReloaded Version: 1.2.0 Command: /Library/Frameworks/R.framework/Resources/bin/R CMD build --keep-empty-dirs --no-resave-data regioneReloaded StartedAt: 2023-10-15 20:37:01 -0400 (Sun, 15 Oct 2023) EndedAt: 2023-10-15 20:39:48 -0400 (Sun, 15 Oct 2023) EllapsedTime: 167.1 seconds RetCode: 0 Status: OK PackageFile: regioneReloaded_1.2.0.tar.gz PackageFileSize: 3.855 MiB