Package: regioneReloaded Version: 1.2.0 Command: rm -rf regioneReloaded.buildbin-libdir && mkdir regioneReloaded.buildbin-libdir && /Users/biocbuild/BBS/utils/build-universal.sh regioneReloaded_1.2.0.tar.gz /Library/Frameworks/R.framework/Resources/bin/R regioneReloaded.buildbin-libdir StartedAt: 2023-10-16 10:01:52 -0400 (Mon, 16 Oct 2023) EndedAt: 2023-10-16 10:03:46 -0400 (Mon, 16 Oct 2023) EllapsedTime: 114.2 seconds RetCode: 0 Status: OK PackageFile: regioneReloaded_1.2.0.tgz PackageFileSize: 3.444 MiB