Package: regioneR Version: 1.32.0 Command: /Library/Frameworks/R.framework/Resources/bin/R CMD INSTALL regioneR StartedAt: 2023-10-15 15:34:30 -0400 (Sun, 15 Oct 2023) EndedAt: 2023-10-15 15:36:05 -0400 (Sun, 15 Oct 2023) EllapsedTime: 95.0 seconds RetCode: 0 Status: OK