Package: regionReport Version: 1.34.0 Command: chmod a+r regionReport -R && F:\biocbuild\bbs-3.17-bioc\R\bin\R.exe CMD build --keep-empty-dirs --no-resave-data regionReport StartedAt: 2023-10-15 21:43:56 -0400 (Sun, 15 Oct 2023) EndedAt: 2023-10-15 21:45:09 -0400 (Sun, 15 Oct 2023) EllapsedTime: 72.9 seconds RetCode: 0 Status: OK PackageFile: regionReport_1.34.0.tar.gz PackageFileSize: 644.8 KiB