Package: regionReport Version: 1.34.0 Command: rm -rf regionReport.buildbin-libdir && mkdir regionReport.buildbin-libdir && F:\biocbuild\bbs-3.17-bioc\R\bin\R.exe CMD INSTALL --build --library=regionReport.buildbin-libdir regionReport_1.34.0.tar.gz StartedAt: 2023-10-16 09:22:01 -0400 (Mon, 16 Oct 2023) EndedAt: 2023-10-16 09:22:58 -0400 (Mon, 16 Oct 2023) EllapsedTime: 56.6 seconds RetCode: 0 Status: OK PackageFile: regionReport_1.34.0.zip PackageFileSize: 701.3 KiB