Package: regionReport Version: 1.34.0 Command: /Library/Frameworks/R.framework/Resources/bin/R CMD build --keep-empty-dirs --no-resave-data regionReport StartedAt: 2023-10-15 20:37:02 -0400 (Sun, 15 Oct 2023) EndedAt: 2023-10-15 20:39:26 -0400 (Sun, 15 Oct 2023) EllapsedTime: 144.2 seconds RetCode: 0 Status: OK PackageFile: regionReport_1.34.0.tar.gz PackageFileSize: 643.9 KiB