Package: recountmethylation Version: 1.10.0 Command: chmod a+r recountmethylation -R && F:\biocbuild\bbs-3.17-bioc\R\bin\R.exe CMD build --keep-empty-dirs --no-resave-data recountmethylation StartedAt: 2023-10-15 21:42:56 -0400 (Sun, 15 Oct 2023) EndedAt: 2023-10-15 21:45:08 -0400 (Sun, 15 Oct 2023) EllapsedTime: 131.8 seconds RetCode: 0 Status: OK PackageFile: recountmethylation_1.10.0.tar.gz PackageFileSize: 4.69 MiB