Package: recountmethylation Version: 1.10.0 Command: rm -rf recountmethylation.buildbin-libdir && mkdir recountmethylation.buildbin-libdir && F:\biocbuild\bbs-3.17-bioc\R\bin\R.exe CMD INSTALL --build --library=recountmethylation.buildbin-libdir recountmethylation_1.10.0.tar.gz StartedAt: 2023-10-16 09:21:42 -0400 (Mon, 16 Oct 2023) EndedAt: 2023-10-16 09:21:51 -0400 (Mon, 16 Oct 2023) EllapsedTime: 9.0 seconds RetCode: 0 Status: OK PackageFile: recountmethylation_1.10.0.zip PackageFileSize: 4.641 MiB