Package: recountmethylation Version: 1.10.0 Command: /home/biocbuild/bbs-3.17-bioc/R/bin/R CMD check --install=check:recountmethylation.install-out.txt --library=/home/biocbuild/bbs-3.17-bioc/R/site-library --timings recountmethylation_1.10.0.tar.gz StartedAt: 2023-10-16 00:18:29 -0400 (Mon, 16 Oct 2023) EndedAt: 2023-10-16 00:21:28 -0400 (Mon, 16 Oct 2023) EllapsedTime: 178.6 seconds RetCode: 1 Status: ERROR CheckDir: recountmethylation.Rcheck Warnings: NA