Package: recountmethylation Version: 1.10.0 Command: /home/biocbuild/bbs-3.17-bioc/R/bin/R CMD build --keep-empty-dirs --no-resave-data recountmethylation StartedAt: 2023-10-15 18:08:58 -0400 (Sun, 15 Oct 2023) EndedAt: 2023-10-15 18:10:44 -0400 (Sun, 15 Oct 2023) EllapsedTime: 106.0 seconds RetCode: 0 Status: OK PackageFile: recountmethylation_1.10.0.tar.gz PackageFileSize: 4.786 MiB