Package: recountmethylation Version: 1.10.0 Command: /Library/Frameworks/R.framework/Resources/bin/R CMD check --install=check:recountmethylation.install-out.txt --library=/Library/Frameworks/R.framework/Resources/library --no-vignettes --timings recountmethylation_1.10.0.tar.gz StartedAt: 2023-10-16 05:54:36 -0400 (Mon, 16 Oct 2023) EndedAt: 2023-10-16 05:57:44 -0400 (Mon, 16 Oct 2023) EllapsedTime: 188.8 seconds RetCode: 0 Status: OK CheckDir: recountmethylation.Rcheck Warnings: 0