Package: recount Version: 1.26.0 Command: F:\biocbuild\bbs-3.17-bioc\R\bin\R.exe CMD INSTALL recount StartedAt: 2023-10-15 16:25:42 -0400 (Sun, 15 Oct 2023) EndedAt: 2023-10-15 16:27:01 -0400 (Sun, 15 Oct 2023) EllapsedTime: 79.3 seconds RetCode: 0 Status: OK