Package: recount Version: 1.26.0 Command: chmod a+r recount -R && F:\biocbuild\bbs-3.17-bioc\R\bin\R.exe CMD build --keep-empty-dirs --no-resave-data recount StartedAt: 2023-10-15 21:42:39 -0400 (Sun, 15 Oct 2023) EndedAt: 2023-10-15 21:45:27 -0400 (Sun, 15 Oct 2023) EllapsedTime: 168.0 seconds RetCode: 0 Status: OK PackageFile: recount_1.26.0.tar.gz PackageFileSize: 6.848 MiB