Package: recount Version: 1.26.0 Command: /home/biocbuild/bbs-3.17-bioc/R/bin/R CMD build --keep-empty-dirs --no-resave-data recount StartedAt: 2023-10-15 18:08:55 -0400 (Sun, 15 Oct 2023) EndedAt: 2023-10-15 18:13:28 -0400 (Sun, 15 Oct 2023) EllapsedTime: 272.6 seconds RetCode: 0 Status: OK PackageFile: recount_1.26.0.tar.gz PackageFileSize: 7.001 MiB