Package: reconsi Version: 1.12.0 Command: F:\biocbuild\bbs-3.17-bioc\R\bin\R.exe CMD INSTALL reconsi StartedAt: 2023-10-15 16:44:46 -0400 (Sun, 15 Oct 2023) EndedAt: 2023-10-15 16:45:12 -0400 (Sun, 15 Oct 2023) EllapsedTime: 25.8 seconds RetCode: 0 Status: OK