Package: reconsi Version: 1.12.0 Command: /Library/Frameworks/R.framework/Resources/bin/R CMD check --install=check:reconsi.install-out.txt --library=/Library/Frameworks/R.framework/Resources/library --no-vignettes --timings reconsi_1.12.0.tar.gz StartedAt: 2023-10-16 05:54:15 -0400 (Mon, 16 Oct 2023) EndedAt: 2023-10-16 06:02:49 -0400 (Mon, 16 Oct 2023) EllapsedTime: 514.2 seconds RetCode: 0 Status: OK CheckDir: reconsi.Rcheck Warnings: 0