Package: receptLoss Version: 1.12.0 Command: F:\biocbuild\bbs-3.17-bioc\R\bin\R.exe CMD INSTALL receptLoss StartedAt: 2023-10-15 16:00:14 -0400 (Sun, 15 Oct 2023) EndedAt: 2023-10-15 16:00:41 -0400 (Sun, 15 Oct 2023) EllapsedTime: 27.1 seconds RetCode: 0 Status: OK