Package: receptLoss Version: 1.12.0 Command: chmod a+r receptLoss -R && F:\biocbuild\bbs-3.17-bioc\R\bin\R.exe CMD build --keep-empty-dirs --no-resave-data receptLoss StartedAt: 2023-10-15 21:42:37 -0400 (Sun, 15 Oct 2023) EndedAt: 2023-10-15 21:43:09 -0400 (Sun, 15 Oct 2023) EllapsedTime: 32.1 seconds RetCode: 0 Status: OK PackageFile: receptLoss_1.12.0.tar.gz PackageFileSize: 639.5 KiB