Package: receptLoss Version: 1.12.0 Command: rm -rf receptLoss.buildbin-libdir && mkdir receptLoss.buildbin-libdir && F:\biocbuild\bbs-3.17-bioc\R\bin\R.exe CMD INSTALL --build --library=receptLoss.buildbin-libdir receptLoss_1.12.0.tar.gz StartedAt: 2023-10-16 09:21:36 -0400 (Mon, 16 Oct 2023) EndedAt: 2023-10-16 09:22:01 -0400 (Mon, 16 Oct 2023) EllapsedTime: 25.8 seconds RetCode: 0 Status: OK PackageFile: receptLoss_1.12.0.zip PackageFileSize: 391.1 KiB