Package: receptLoss Version: 1.12.0 Command: /Library/Frameworks/R.framework/Resources/bin/R CMD check --install=check:receptLoss.install-out.txt --library=/Library/Frameworks/R.framework/Resources/library --no-vignettes --timings receptLoss_1.12.0.tar.gz StartedAt: 2023-10-16 05:54:12 -0400 (Mon, 16 Oct 2023) EndedAt: 2023-10-16 06:00:13 -0400 (Mon, 16 Oct 2023) EllapsedTime: 361.1 seconds RetCode: 0 Status: OK CheckDir: receptLoss.Rcheck Warnings: 0