Package: receptLoss Version: 1.12.0 Command: rm -rf receptLoss.buildbin-libdir && mkdir receptLoss.buildbin-libdir && /Users/biocbuild/BBS/utils/build-universal.sh receptLoss_1.12.0.tar.gz /Library/Frameworks/R.framework/Resources/bin/R receptLoss.buildbin-libdir StartedAt: 2023-10-16 10:01:22 -0400 (Mon, 16 Oct 2023) EndedAt: 2023-10-16 10:02:27 -0400 (Mon, 16 Oct 2023) EllapsedTime: 65.1 seconds RetCode: 0 Status: OK PackageFile: receptLoss_1.12.0.tgz PackageFileSize: 385.7 KiB