Package: rbsurv Version: 2.58.0 Command: F:\biocbuild\bbs-3.17-bioc\R\bin\R.exe CMD check --no-multiarch --install=check:rbsurv.install-out.txt --library=F:\biocbuild\bbs-3.17-bioc\R\library --no-vignettes --timings rbsurv_2.58.0.tar.gz StartedAt: 2023-10-16 05:44:19 -0400 (Mon, 16 Oct 2023) EndedAt: 2023-10-16 05:45:18 -0400 (Mon, 16 Oct 2023) EllapsedTime: 59.1 seconds RetCode: 0 Status: OK CheckDir: rbsurv.Rcheck Warnings: 0